BEGIN:VCALENDAR
PRODID:-//Microsoft Corporation//Outlook MIMEDIR//EN
VERSION:2.0
METHOD:PUBLISH
BEGIN:VEVENT
DTSTART:20260505T090000
DTEND:20260505T100000
DESCRIPTION:
LOCATION:County Administration Center Board Chamber, Room 310
SUMMARY:BOARD OF SUPERVISORS
CATEGORIES:MEETING
END:VEVENT
END:VCALENDAR
