BEGIN:VCALENDAR
PRODID:-//Microsoft Corporation//Outlook MIMEDIR//EN
VERSION:2.0
METHOD:PUBLISH
BEGIN:VEVENT
DTSTART:20260506T090000
DTEND:20260506T100000
DESCRIPTION:
LOCATION:
SUMMARY:BOARD OF SUPERVISORS - LAND USE
CATEGORIES:MEETING
END:VEVENT
END:VCALENDAR
